BEGIN:VCALENDAR
VERSION:2.0
PRODID:-//Expoplaza - ECPv6.3.3.1//NONSGML v1.0//EN
CALSCALE:GREGORIAN
METHOD:PUBLISH
X-WR-CALNAME:Expoplaza
X-ORIGINAL-URL:https://www.expoplaza.ec
X-WR-CALDESC:Eventos para Expoplaza
REFRESH-INTERVAL;VALUE=DURATION:PT1H
X-Robots-Tag:noindex
X-PUBLISHED-TTL:PT1H
BEGIN:VTIMEZONE
TZID:America/Guayaquil
BEGIN:STANDARD
TZOFFSETFROM:-0500
TZOFFSETTO:-0500
TZNAME:-05
DTSTART:20260101T000000
END:STANDARD
TZID:Europe/Madrid
BEGIN:DAYLIGHT
TZOFFSETFROM:+0100
TZOFFSETTO:+0200
TZNAME:CEST
DTSTART:20260329T010000
END:DAYLIGHT
BEGIN:STANDARD
TZOFFSETFROM:+0200
TZOFFSETTO:+0100
TZNAME:CET
DTSTART:20261025T010000
END:STANDARD
END:VTIMEZONE
BEGIN:VEVENT
DTSTART;TZID=America/Guayaquil:20260519T140000
DTEND;TZID=America/Guayaquil:20260521T200000
DTSTAMP:20260424T075012
CREATED:20251126T155410Z
LAST-MODIFIED:20260423T190850Z
UID:13871-1779199200-1779393600@www.expoplaza.ec
SUMMARY:EDIFICA
DESCRIPTION:[vc_row][vc_column][vc_column_text] \nUn mundo de posibilidades en la feria de la construcción mas grande del país. www.edifica.com.ec \n\nEDIFICA 2026 – Visita FERIA COMERCIAL (Costo por día $5.00)\n\n \n\nEDIFICA 2026 – Feria + Congreso – Reserva tu cupo al congreso\, seleccionando los días de asistencia (Costo por día $5.00)\n\n  \n[/vc_column_text][/vc_column][/vc_row][vc_row][vc_column][vc_column_text][/vc_column_text][/vc_column][/vc_row]
URL:https://www.expoplaza.ec/evento/edifica/
LOCATION:Expoplaza\, Av. de las Américas 406\, Guayaquil\, Guayas\, 090513\, Ecuador
ATTACH;FMTTYPE=image/jpeg:https://www.expoplaza.ec/wp-content/uploads/2025/11/evento-edifica.jpg
ORGANIZER;CN="Expoplaza":MAILTO:info@expoplaza.ec
END:VEVENT
BEGIN:VEVENT
DTSTART;TZID=Europe/Madrid:20260723T090000
DTEND;TZID=Europe/Madrid:20260726T210000
DTSTAMP:20260424T075012
CREATED:20231204T210940Z
LAST-MODIFIED:20251118T205217Z
UID:4838-1784797200-1785099600@www.expoplaza.ec
SUMMARY:Raices
DESCRIPTION:[vc_row][vc_column][vc_column_text]Raíces inició en el 2014 con el objetivo de impulsar la gastronomía ecuatoriana como referente turístico de gran potencial. Este festival incentiva a los diversos emprendimientos gastronómicos a involucrarse en la mejora continua y promoción. \nEste proyecto tiene como finalidad el fortalecimiento de todo el sector gastronómico del país\, incitando la participación de las huecas más representativas\, participación de distintas marcas en la feria comercial y de todos los amantes de la gastronomía nacional. \nHorarios: Jueves a Sábado de 09:00 a 21:00 – Domingo de 09:00 a 20:00[/vc_column_text][/vc_column][/vc_row]
URL:https://www.expoplaza.ec/evento/raices-2024/
LOCATION:Expoplaza\, Av. de las Américas 406\, Guayaquil\, Guayas\, 090513\, Ecuador
CATEGORIES:eventos
ATTACH;FMTTYPE=image/jpeg:https://www.expoplaza.ec/wp-content/uploads/2023/12/evento-raices.jpg
ORGANIZER;CN="Expoplaza":MAILTO:info@expoplaza.ec
END:VEVENT
BEGIN:VEVENT
DTSTART;TZID=America/Guayaquil:20260804T100000
DTEND;TZID=America/Guayaquil:20260806T210000
DTSTAMP:20260424T075012
CREATED:20241212T182302Z
LAST-MODIFIED:20251118T211113Z
UID:8932-1785837600-1786050000@www.expoplaza.ec
SUMMARY:La Cumbre CACAO
DESCRIPTION:[vc_row][vc_column][vc_column_text]Un evento que reúne a expertos\, productores\, investigadores y entusiastas de la industria del cacao y el chocolate para compartir conocimientos\, discutir tendencias\, promover la sostenibilidad y explorar nuevas oportunidades en este fascinante campo. \nEn esta 9na edición\, nuestro programa incluirá CONFERENCIAS MAGISTRALES de destacados líderes y científicos de la industria\,  con los nuevos avances y tecnologías innovadoras relacionadas con el cacao\, una FERIA COMERCIAL\, con oportunidades de networking\, el tradicional concurso la PEPA DE ORO. \nHorarios: Martes a Jueves de 10:00 a 21:00 \n[/vc_column_text][/vc_column][/vc_row][vc_row][vc_column][/vc_column][/vc_row]
URL:https://www.expoplaza.ec/evento/la-cumbre-cacao/
LOCATION:Expoplaza\, Av. de las Américas 406\, Guayaquil\, Guayas\, 090513\, Ecuador
CATEGORIES:eventos
ATTACH;FMTTYPE=image/jpeg:https://www.expoplaza.ec/wp-content/uploads/2024/12/evento-cacao.jpg
ORGANIZER;CN="Expoplaza":MAILTO:info@expoplaza.ec
END:VEVENT
BEGIN:VEVENT
DTSTART;TZID=Europe/Madrid:20260811T160000
DTEND;TZID=Europe/Madrid:20260816T220000
DTSTAMP:20260424T075012
CREATED:20231204T205106Z
LAST-MODIFIED:20251119T153644Z
UID:4831-1786464000-1786917600@www.expoplaza.ec
SUMMARY:AutoShow Gye
DESCRIPTION:[vc_row][vc_column][vc_column_text]Autoshow es reconocido como el mejor espectáculo de autos a nivel nacional desde su primera edición en el año 92. Con el respaldo de nuestro socio comercial AEA (Asociación Ecuatoriana Automotriz)\, y la participación de las marcas automotrices más importantes del país\, nos hemos posicionado entre el público comprador\, como el lugar de reunión de la mayor oferta automotriz en el país \nAutoshow atrae cada año a todas las marcas de automóviles y proveedores del sector en un solo espacio. Es la oportunidad para que nuestros visitantes tengan un contacto directo con las marcas\, aprovechando los descuentos y promociones de feria en un solo lugar. \nHorarios: Martes a Viernes de 16:00 a 22:00 – Sábado y Domingo de 11:00 a 22:00[/vc_column_text][/vc_column][/vc_row]
URL:https://www.expoplaza.ec/evento/auto-show-gye-2024/
LOCATION:Expoplaza\, Av. de las Américas 406\, Guayaquil\, Guayas\, 090513\, Ecuador
CATEGORIES:eventos
ATTACH;FMTTYPE=image/jpeg:https://www.expoplaza.ec/wp-content/uploads/2023/12/evento-autoshow.jpg
ORGANIZER;CN="Expoplaza":MAILTO:info@expoplaza.ec
END:VEVENT
BEGIN:VEVENT
DTSTART;TZID=America/Guayaquil:20260903T160000
DTEND;TZID=America/Guayaquil:20260906T210000
DTSTAMP:20260424T075012
CREATED:20231114T222904Z
LAST-MODIFIED:20251119T145248Z
UID:4775-1788451200-1788728400@www.expoplaza.ec
SUMMARY:Habitat
DESCRIPTION:[vc_row][vc_column][vc_column_text]Hábitat se ha consolidado\, como el lugar de reunión de la mayor oferta inmobiliaria\, generando oportunidades para dinamizar la economía de este sector por su experiencia\, cobertura de comunicación y responsabilidad en su ejecución. Este 2025\, celebra su edición No. 39\, con la participación de inmobiliarias\, entidades financieras\, así como otras empresas de servicios relacionadas al sector. \nHorarios: Jueves y Viernes 16:00 a 21:00 – Sábado y Domingo 11:00 a 21:00[/vc_column_text][/vc_column][/vc_row]
URL:https://www.expoplaza.ec/evento/habitat-2024/
LOCATION:Expoplaza\, Av. de las Américas 406\, Guayaquil\, Guayas\, 090513\, Ecuador
CATEGORIES:eventos
ATTACH;FMTTYPE=image/png:https://www.expoplaza.ec/wp-content/uploads/2024/11/habitat-25.png
ORGANIZER;CN="Expoplaza":MAILTO:info@expoplaza.ec
END:VEVENT
BEGIN:VEVENT
DTSTART;TZID=Europe/Madrid:20260916T090000
DTEND;TZID=Europe/Madrid:20260920T210000
DTSTAMP:20260424T075012
CREATED:20231204T214214Z
LAST-MODIFIED:20251119T145855Z
UID:4846-1789549200-1789938000@www.expoplaza.ec
SUMMARY:FIL Guayaquil
DESCRIPTION:[vc_row][vc_column][vc_column_text]Feria Internacional del Libro Guayaquil\, un evento para impulsar la cultura y el comercio tanto de las librerías como de las editoriales. El objetivo principal es incentivar la lectura de la comunidad\, especialmente de los niños y jóvenes. \nDurante cinco días\, el público podrá disfrutar de una exposición comercial\, conferencias\, conversatorios y presentación de libros de renombrados escritores nacionales e internacionales\, completarán la oferta de la feria con la oportunidad de intercambiar ideas y experiencias sobre temas de máxima actualidad que generan numerosos acuerdos e intercambios comerciales. \nHorarios: Miércoles a Domingo de 9:00 a 21:0[/vc_column_text][/vc_column][/vc_row]
URL:https://www.expoplaza.ec/evento/fil24-guayaquil/
LOCATION:Expoplaza\, Av. de las Américas 406\, Guayaquil\, Guayas\, 090513\, Ecuador
CATEGORIES:eventos
ATTACH;FMTTYPE=image/jpeg:https://www.expoplaza.ec/wp-content/uploads/2023/12/evento-FIL.jpg
ORGANIZER;CN="Expoplaza":MAILTO:info@expoplaza.ec
END:VEVENT
BEGIN:VEVENT
DTSTART;TZID=America/Guayaquil:20261001T090000
DTEND;TZID=America/Guayaquil:20261003T200000
DTSTAMP:20260424T075012
CREATED:20240507T193731Z
LAST-MODIFIED:20251119T152759Z
UID:5237-1790845200-1791057600@www.expoplaza.ec
SUMMARY:Horeca Fest
DESCRIPTION:Un evento para profesionales y estudiantes que buscan mejorar su conocimiento y negocios\, a través del perfeccionamiento en las últimas tendencias\, técnicas vanguardistas y el arte de la cocina de la mano de expertos reconocidos a nivel internacional. \nIncrementa la eficiencia de la cadena de valor de las empresas del sector HORECA\, a través de nuestro CONGRESO\, diseñado tanto para profesionales y estudiantes apasionados por la gastronomía en búsqueda de inspiración y perfeccionamiento. Conoceremos las nuevas tendencias\, los estándares tecnológicos y buenas prácticas de gestión\, mediante conferencias y charlas de invitados nacionales e internacionales que nos llevarán a la vanguardia y evolución del mercado\, así como disfrutar de la competencia de la COPA CULINARIA para estudiantes de gastronomía\, que buscan demostrar sus habilidades y capacidades en el arte de la cocina. \nHorarios: Jueves a Sábado de 9:00 a 20:00
URL:https://www.expoplaza.ec/evento/horeca/
LOCATION:Expoplaza\, Av. de las Américas 406\, Guayaquil\, Guayas\, 090513\, Ecuador
CATEGORIES:eventos
ATTACH;FMTTYPE=image/jpeg:https://www.expoplaza.ec/wp-content/uploads/2024/05/evento-horeca.jpg
ORGANIZER;CN="Expoplaza":MAILTO:info@expoplaza.ec
END:VEVENT
BEGIN:VEVENT
DTSTART;TZID=America/Guayaquil:20261110T090000
DTEND;TZID=America/Guayaquil:20261112T210000
DTSTAMP:20260424T075012
CREATED:20240507T201122Z
LAST-MODIFIED:20251118T205112Z
UID:5242-1794301200-1794517200@www.expoplaza.ec
SUMMARY:La Cumbre BANANO
DESCRIPTION:[vc_row][vc_column][vc_column_text]Un evento que reúne a expertos\, productores\, investigadores y entusiastas de la industria del banano para compartir conocimientos\, discutir tendencias\, promover la sostenibilidad y explorar nuevas oportunidades en este fascinante campo. \nEn esta 13va edición\, nuestro programa incluirá CONFERENCIAS MAGISTRALES de destacados líderes y científicos de la industria con los nuevos avances y tecnologías innovadoras relacionadas con el banano\, y una FERIA COMERCIAL\, con oportunidades de networking. \nHorarios: Lunes a Miércoles de 9:00 a 21:00 \n\n[/vc_column_text][/vc_column][/vc_row][vc_row][vc_column][/vc_column][/vc_row]
URL:https://www.expoplaza.ec/evento/la-cumbre/
LOCATION:Expoplaza\, Av. de las Américas 406\, Guayaquil\, Guayas\, 090513\, Ecuador
CATEGORIES:eventos
ATTACH;FMTTYPE=image/jpeg:https://www.expoplaza.ec/wp-content/uploads/2024/05/evento-banano.jpg
ORGANIZER;CN="Expoplaza":MAILTO:info@expoplaza.ec
END:VEVENT
END:VCALENDAR